BEGIN:VCALENDAR
VERSION:2.0
PRODID:-//Plone.org//NONSGML plone.app.event//EN
X-WR-TIMEZONE:Europe/Rome
BEGIN:VEVENT
SUMMARY:L’intelligenza artificiale al servizio della medicina\, esperien
 ze a confronto
DTSTART;TZID=Europe/Rome:20260122T090000
DTEND;TZID=Europe/Rome:20260122T180000
DTSTAMP:20260420T005002Z
UID:e2cac0aa41dc4c46a673aacdb2eac913@localhost:6081
CONTACT:https://qui.uniud.it/ateneo/lintelligenza-artificiale-al-servizio-
 della-medicina-esperienze-a-confronto/
CREATED:20260121T113930Z
DESCRIPTION:“Intelligenza artificiale in medicina\, esperienze a confron
 to”. È il tema dell’incontro che sarà affrontato all’Università d
 i Udine giovedì 22 gennaio\, dalle 9\, nell’aula M2 della Biblioteca sc
 ientifica (via Fausto Schiavi 44\, Udine). In particolare\, saranno presen
 tate le principali esperienze di ricerca nate dal progetto nazionale “St
 endhal” partecipato dal Dipartimento di Scienze matematiche\, informatic
 he e fisiche dell’Ateneo friulano. A illustrarle saranno il coordinatore
  locale del progetto Marino Miculan coadiuvato da Vincenzo Della Mea.
LAST-MODIFIED:20260121T113938Z
LOCATION:Aula M2\, Biblioteca Scientifica
URL:https://dmif.uniud.it/it/notizie/lintelligenza-artificiale-al-servizio
 -della-medicina-esperienze-a-confronto
END:VEVENT
BEGIN:VTIMEZONE
TZID:Europe/Rome
X-LIC-LOCATION:Europe/Rome
BEGIN:STANDARD
DTSTART:20251026T020000
TZNAME:CET
TZOFFSETFROM:+0200
TZOFFSETTO:+0100
END:STANDARD
END:VTIMEZONE
END:VCALENDAR
