BEGIN:VCALENDAR
VERSION:2.0
PRODID:-//Plone.org//NONSGML plone.app.event//EN
X-WR-TIMEZONE:Europe/Rome
BEGIN:VEVENT
SUMMARY:Incontri con Abil Nasbi
DTSTART;TZID=Europe/Rome:20251014T110000
DTEND;TZID=Europe/Rome:20251017T121500
DTSTAMP:20260420T003233Z
UID:89e148e8874b43feb2427d30a830b973@localhost:6081
CONTACT:https://dmif.uniud.it/it/materiali/locandine/locandina-prof-absi-e
 fc.pdf
CREATED:20251017T094335Z
DESCRIPTION:Ecole des Mines de Saint-Etienne\, France / Modeling and Solvi
 ng Production Planning Problems in the Context of Circular Economy / Excha
 nge time with students on internship and PhD possibilities at Ecole des Mi
 nes de Saint-Etienne and overview of the French educational system
LAST-MODIFIED:20251017T094902Z
LOCATION:Aule A0 37 – A0 23 Polo Rizzi
URL:https://dmif.uniud.it/it/notizie/incontri-con-abil-nasbi
END:VEVENT
BEGIN:VTIMEZONE
TZID:Europe/Rome
X-LIC-LOCATION:Europe/Rome
BEGIN:DAYLIGHT
DTSTART:20250330T030000
TZNAME:CEST
TZOFFSETFROM:+0100
TZOFFSETTO:+0200
END:DAYLIGHT
END:VTIMEZONE
END:VCALENDAR
