BEGIN:VCALENDAR
VERSION:2.0
PRODID:-//Plone.org//NONSGML plone.app.event//EN
X-WR-TIMEZONE:Europe/Rome
BEGIN:VEVENT
SUMMARY:Una full immersion nella matematica universitaria
DTSTART;VALUE=DATE:20260126
DTEND;VALUE=DATE:20260128
DTSTAMP:20260420T004800Z
UID:05970dab41e34b409b063b4934ce4ef2@localhost:6081
CONTACT:https://qui.uniud.it/studio-e-lavoro/una-full-immersion-nella-mate
 matica-universitaria/
CREATED:20260121T113559Z
DESCRIPTION:La Scuola Superiore Universitaria “di Toppo Wassermann” de
 ll’Università di Udine chiama a raccolta gli studenti delle scuole seco
 ndarie per un viaggio alla scoperta del fascino e delle applicazioni della
  matematica. L’appuntamento è per lunedì 26 e martedì 27 gennaio con 
 Matematica@UNIUD\, un evento speciale che va oltre la semplice presentazio
 ne del corso di laurea\, proponendo una full immersion residenziale nel mo
 ndo accademico.
LAST-MODIFIED:20260121T113607Z
LOCATION:Scuola Superiore Universitaria “di Toppo Wassermann”
URL:https://dmif.uniud.it/it/notizie/full-immersion-nella-matematica-unive
 rsitaria
END:VEVENT
END:VCALENDAR
